BEGIN:VCALENDAR
VERSION:2.0
PRODID:-//Frühstückstreffen für Frauen - ECPv6.10.1.1//NONSGML v1.0//EN
CALSCALE:GREGORIAN
METHOD:PUBLISH
X-WR-CALNAME:Frühstückstreffen für Frauen
X-ORIGINAL-URL:https://fruehstueckstreffen.de
X-WR-CALDESC:Veranstaltungen für Frühstückstreffen für Frauen
REFRESH-INTERVAL;VALUE=DURATION:PT1H
X-Robots-Tag:noindex
X-PUBLISHED-TTL:PT1H
BEGIN:VTIMEZONE
TZID:Europe/Berlin
BEGIN:DAYLIGHT
TZOFFSETFROM:+0100
TZOFFSETTO:+0200
TZNAME:CEST
DTSTART:20220327T010000
END:DAYLIGHT
BEGIN:STANDARD
TZOFFSETFROM:+0200
TZOFFSETTO:+0100
TZNAME:CET
DTSTART:20221030T010000
END:STANDARD
END:VTIMEZONE
BEGIN:VEVENT
DTSTART;TZID=Europe/Berlin:20220903T090000
DTEND;TZID=Europe/Berlin:20220903T113000
DTSTAMP:20260419T154015
CREATED:20220807T123944Z
LAST-MODIFIED:20220909T103123Z
UID:10000023-1662195600-1662204600@fruehstueckstreffen.de
SUMMARY:Lebensgenuss oder Lebensverdruss?! - Wenn das HEUTE nur aus GESTERN und MORGEN besteht…
DESCRIPTION:Frühstücks-Treffen für Frauen jeden Alters \nReferentin:\nVerena Greim aus Erfurt-Egstedt \nWeitere Infos bei:\nChristine Kunath\, Tel.: (03 72 08) 27 17 oder E-Mail: christine.kunath(at)suku.de \n 
URL:https://fruehstueckstreffen.de/veranstaltung/lebensgenuss-oder-lebensverdruss-wenn-das-heute-nur-aus-gestern-und-morgen-besteht/
LOCATION:Gaststätte Ritterhof\, Hauptstraße 96\, Altmittweida\, Sachsen\, 09648\, Deutschland
CATEGORIES:Frühstücks-Treffen
ORGANIZER;CN="FFF-Frankenberg":MAILTO:rosi.findeisen(at)freenet.de
END:VEVENT
END:VCALENDAR