BEGIN:VCALENDAR
VERSION:2.0
PRODID:-//Frühstückstreffen für Frauen - ECPv6.10.1.1//NONSGML v1.0//EN
CALSCALE:GREGORIAN
METHOD:PUBLISH
X-ORIGINAL-URL:https://fruehstueckstreffen.de
X-WR-CALDESC:Veranstaltungen für Frühstückstreffen für Frauen
REFRESH-INTERVAL;VALUE=DURATION:PT1H
X-Robots-Tag:noindex
X-PUBLISHED-TTL:PT1H
BEGIN:VTIMEZONE
TZID:Europe/Berlin
BEGIN:DAYLIGHT
TZOFFSETFROM:+0100
TZOFFSETTO:+0200
TZNAME:CEST
DTSTART:20220327T010000
END:DAYLIGHT
BEGIN:STANDARD
TZOFFSETFROM:+0200
TZOFFSETTO:+0100
TZNAME:CET
DTSTART:20221030T010000
END:STANDARD
END:VTIMEZONE
BEGIN:VEVENT
DTSTART;TZID=Europe/Berlin:20221105T090000
DTEND;TZID=Europe/Berlin:20221105T120000
DTSTAMP:20260419T140345
CREATED:20220816T174144Z
LAST-MODIFIED:20221012T110639Z
UID:10000026-1667638800-1667649600@fruehstueckstreffen.de
SUMMARY:Jetzt beginnt die Kür - mit guter Motivation in die zweite Lebenshälfte
DESCRIPTION:In unserer jugendorientierten Gesellschaft altern nur die anderen\, wir tun uns schwer mit dem Fortgang des Lebens und dem eigenen Älterwerden\, das gefühlte und das tatsächliche Alter fallen dabei immer stärker auseinander.\nEs geht um Fragen der Lebensgestaltung\, der Chancen in der zweiten Lebenshälfte und die späten Freiheiten\, aber auch der Umgang mit den Ängsten vor dem Älterwerden. \n\n  \nReferentin:\nSabine von Krosigk aus Braunschweig\nLehrerin\, Lebens- und Sozialberaterin\, Psychotherapie (HPG)\, Studienleiterin \n \n  \nRahmenprogramm:\nFlamencogruppe Las Balticas \n  \nVorverkauf:\n15.10.2022 ab 10 Uhr\, Dombuchhandlung Greifswald\, Domstr. 19 \n  \nFrühstückstreffen mit Frühstück\, Musik\, Referat\, Gesprächen und Büchertisch.
URL:https://fruehstueckstreffen.de/veranstaltung/jetzt-beginnt-die-kuer-mit-guter-motivation-in-die-zweite-lebenshaelfte/
LOCATION:Stadthalle Greifswald\, Robert-Blum-Straße\, Greifswald\, Mecklenburg-Vorpommern\, 17489
CATEGORIES:Frühstücks-Treffen
ORGANIZER;CN="FFF-Greifswald":MAILTO:Iris.Abromeit(at)gmx.de
END:VEVENT
BEGIN:VEVENT
DTSTART;TZID=Europe/Berlin:20221105T093000
DTEND;TZID=Europe/Berlin:20221105T120000
DTSTAMP:20260419T140345
CREATED:20220811T153644Z
LAST-MODIFIED:20220914T123259Z
UID:10000029-1667640600-1667649600@fruehstueckstreffen.de
SUMMARY:Sehnsucht nach Geborgenheit - Was mir Halt gibt
DESCRIPTION:Referentin:\nAndrea Rathjen aus Süderbrarup \nEintrittskarten:\nEintrittskarten sind vom 10. Oktober erhältlich. Es gibt sie ausschließlich im Vorverkauf. Der Vorverkauf endet am 28. Oktober 2022. \nDie beiden Vorverkaufsstellen sind unverändert geblieben: \nSchuhhaus „Kuhne“\, Marktstraße 51\, Wilhelmshaven \nVolksbank Jever\, Schloßplatz 3\, Jever \nEintrittspreis:\n15\,00 EUR \n 
URL:https://fruehstueckstreffen.de/veranstaltung/sehnsucht-nach-geborgenheit-was-mir-halt-gibt/
LOCATION:ADTV Tanzschule Dunse\, Gökerstraße 124\, Wilhelmshaven\, Niedersachsen\, 26384\, Deutschland
CATEGORIES:Frühstücks-Treffen
ORGANIZER;CN="FFF-Wilhelmshaven":MAILTO:regenscheit(at)fruehstuecks-treffen.de
END:VEVENT
BEGIN:VEVENT
DTSTART;TZID=Europe/Berlin:20221105T093000
DTEND;TZID=Europe/Berlin:20221105T120000
DTSTAMP:20260419T140345
CREATED:20220908T171405Z
LAST-MODIFIED:20220914T123332Z
UID:10000050-1667640600-1667649600@fruehstueckstreffen.de
SUMMARY:Der Stehaufmännchen-Effekt - seelische Widerstandfähigkeiten stärken
DESCRIPTION:Referentin:\nKarin Ackermann-Stoletzky \nKurztext zur Referentin:\nKarin Ackermann-Stoletzky ist Dipl. Sozialpädagogin\, Supervisorin und kommt aus Solingen \nFragen zur Veranstaltung:\nRenate Köhler\, Tel.:(0 21 29) 49 29 oder E-Mail: renatekoehler2(at)gmx.de \nInfo zur Anmeldung:\nUm frühzeitige verbindliche Anmeldung wird gebeten. \nEintrittspreis:\n15\,00 EUR \nMax. Teilnehmerzahl:\nDiesmal begrenzte Teilnehmerzahl\, ca. 130 – 150 Personen \n 
URL:https://fruehstueckstreffen.de/veranstaltung/der-stehaufmaennchen-effekt-seelische-widerstandfaehigkeiten-staerken/
LOCATION:Gemeindezentrum der FeG Haan\, Ellscheider Straße 42-46\, Haan\, Nordrhein-Westfalen\, 42781\, Deutschland
CATEGORIES:Frühstücks-Treffen
ORGANIZER;CN="FFF-Haan":MAILTO:renatekoehler2(at)gmx.de
END:VEVENT
END:VCALENDAR