BEGIN:VCALENDAR
VERSION:2.0
PRODID:-//Frühstückstreffen für Frauen - ECPv6.10.1.1//NONSGML v1.0//EN
CALSCALE:GREGORIAN
METHOD:PUBLISH
X-ORIGINAL-URL:https://fruehstueckstreffen.de
X-WR-CALDESC:Veranstaltungen für Frühstückstreffen für Frauen
REFRESH-INTERVAL;VALUE=DURATION:PT1H
X-Robots-Tag:noindex
X-PUBLISHED-TTL:PT1H
BEGIN:VTIMEZONE
TZID:Europe/Berlin
BEGIN:DAYLIGHT
TZOFFSETFROM:+0100
TZOFFSETTO:+0200
TZNAME:CEST
DTSTART:20240331T010000
END:DAYLIGHT
BEGIN:STANDARD
TZOFFSETFROM:+0200
TZOFFSETTO:+0100
TZNAME:CET
DTSTART:20241027T010000
END:STANDARD
END:VTIMEZONE
BEGIN:VEVENT
DTSTART;TZID=Europe/Berlin:20240323T090000
DTEND;TZID=Europe/Berlin:20240323T113000
DTSTAMP:20260422T141534
CREATED:20240204T160544Z
LAST-MODIFIED:20240204T160544Z
UID:10000207-1711184400-1711193400@fruehstueckstreffen.de
SUMMARY:Mehr Respekt - Der Schatz der Wertschätzung
DESCRIPTION:Referentin:\nHeike Kling ist examinierte Krankenschwester und Mutter von 3 erwachsenen Kindern.\nNach einer theologischen Ausbildung arbeitet sie jetzt als freie Rednerin und lebt in Hannover. \nInformation zur Veranstaltung:\nBei Heike Schimming unter der Rufnummer: (0 34 96) 21 17 59 oder E-Mail: heike.schimming(at)gmx.de \nInformation zur Anmeldung:\nEintrittskarten für 18\,00 EUR im Vorverkauf ab 04.03.2024 bei: \nEv. Pfarrbüro St. Jakob Köthen\, Hallesche Straße 15 a\nAtelier Rogge Köthen\, Goethestraße 34 \nBuchhandlung „Mein Buchladen“ Köthen\, Schalaunische Straße 32 \nEintrittspreis:\n18\,00 EUR \nMax. Teilnehmerzahl: 180 Personen
URL:https://fruehstueckstreffen.de/veranstaltung/mehr-respekt-der-schatz-der-wertschaetzung/
LOCATION:Mensa der Fachhochschule Anhalt\, Bernburger Straße 55\, Köthen\, Sachsen-Anhalt\, 06366\, Deutschland
CATEGORIES:Frühstücks-Treffen
ORGANIZER;CN="FFF-K%C3%B6then":MAILTO:heike.schimming(at)gmx.de
END:VEVENT
BEGIN:VEVENT
DTSTART;TZID=Europe/Berlin:20240323T090000
DTEND;TZID=Europe/Berlin:20240323T113000
DTSTAMP:20260422T141534
CREATED:20240213T123617Z
LAST-MODIFIED:20240213T124202Z
UID:10000215-1711184400-1711193400@fruehstueckstreffen.de
SUMMARY:Wo ist Gott in dieser Welt - eine Welt außer Rand und Band
DESCRIPTION:Jubiläumsveranstaltung 25 Jahre Frühstücks-Treffen für Frauen in Bad Berleburg\nWir freuen uns auf ein leckeres Frühstück\, musikalische Begleitung\, ein lebensnahes Referat über Gott und die Welt und Gespräche. \nReferentin:\nDoris Schulte\ngeboren und aufgewachsen in Kanada\, seit 1985 zuhause im Westerwald\, arbeitet bei dem Missions- und Bildungswerk Neues Leben e.V.\, Evangelistin und Referentin bei Frühstückstreffen\, Freizeiten und Seminaren\, Buchautorin und in der TV-Sendereihe „So lebt’s sich gut“ wöchentlich zu sehen. \nInfos zur Veranstaltung:\nBei Gisela Bem unter der Rufnummer: (0 27 51) 95 90 03 oder E-Mail: giselabem(at)web.de \nInformationen zur Anmeldung:\nEintrittskarten nur im Vorverkauf ab 22.02.2024 bei\n– Berleburger Buchhandlung\, Poststr. 19\, Bad Berleburg\n– Buchhandlung Mankelmuth\, Graf-Casimir-Str. 7\, Bad Berleburg\n– Buchhandlung Blöcher\, Bad Laasphe\n– Geschenke Hofius\, Erndtebrück \nEintrittspreis:\n15\,00 EUR
URL:https://fruehstueckstreffen.de/veranstaltung/wo-ist-gott-in-dieser-welt-eine-welt-ausser-rand-und-band/
LOCATION:Bürgerhaus\, Marktplatz 1a\, Bad Berleburg\, Nordrhein-Westfalen\, 57319
CATEGORIES:Frühstücks-Treffen
ORGANIZER;CN="FFF-Bad Berleburg":MAILTO:Giselabem(at)web.de
END:VEVENT
BEGIN:VEVENT
DTSTART;TZID=Europe/Berlin:20240323T090000
DTEND;TZID=Europe/Berlin:20240323T120000
DTSTAMP:20260422T141534
CREATED:20240131T140602Z
LAST-MODIFIED:20240131T140602Z
UID:10000204-1711184400-1711195200@fruehstueckstreffen.de
SUMMARY:Gut ist gut genug! Zufrieden leben\, auch wenn das Leben nicht perfekt ist
DESCRIPTION:Die Sonne scheint\, aber leider sind die Fenster nicht geputzt. Und schon wird aus guter Laune schlechte Laune. Sind wir der eigenen Unzufriedenheit wirklich ausgeliefert? Dabei sind schmutzige Fenster ja noch eine leichte Übung. Was passiert mit uns\, wenn die Dinge anders laufen\, als wir es uns vorgestellt haben? \nDer Vortrag entlarvt augenzwinkernd die selbst aufgestellten Denkfallen\, die „Antreiber“\, die es sich gut in unserem Leben eingerichtet haben; die gedanklichen No-Goes\, Engführungen („Bitte so und nicht anders!“)\, die uns verspannen. \nManchmal ist es einfach nur gut\, zu entdecken\, dass die ungünstigen Umstände unter Umständen gar nicht das eigentliche Problem sind. \nLockerungsübungen für die Seele! \nReferentin:\nClaudia Filcker\nClaudia Filker hat in der evangelischen Jugendarbeit die Freude am Glauben und die Liebe zur Theologie entdeckt.\nNach dem Abitur 1977 studierte sie evangelische Theologie.\nSie hat eine Berufung als „Pfarrerin im Ehrenamt“.\nIhre Familie ist kunterbunt. Die sechs erwachsenen Kinder kommen aus Kolumbien\, Russland\, von den Philippinen – und zwei waschechte Berliner sind auch dabei. Sie haben erfahren: Vielfalt und Internationalität bereichern das Leben. \nSeit 1995 arbeitet sie neben dem pastoralen Ehrenamt freiberuflich als Autorin\, Referentin und Kommunikationstrainerin für Paare (EPL/KEK). \nInfos zur Veranstaltung:\nBei Anette Rose unter der Rufnummer: (03 90 08) 8 02 89 oder E-Mail: anette.rose(at)yahoo.de \nInformationen zur Anmeldung: \nDer Kartenvorverkauf findet durch Banküberweisung statt.\nBei der Überweisung sollte der Name und die Anzahl der bestellten Plätze angegeben werden. Frauen\, die mit einer Überweisung mehrere Karten bezahlen\, werden auch an einem Tisch zusammen sitzen.\nEs werden keine Eintrittskarten ausgegeben\, sondern die Plätze werden namentlich reserviert. \nEintrittsgeld bitte bis zum 15.03.2024 (Zahlungseingang) zu überweisen. \nFrühstückstreffen f. Frauen\nSparkasse Altmark West\nIBAN: DE93 8105 5555 3100 0045 49 \nEintrittspreis:\n20\,00 EUR/Person inklusive Frühstücksbuffet \nMax. Teilnehmerzahl: 200 Teilnehmerinnen
URL:https://fruehstueckstreffen.de/veranstaltung/gut-ist-gut-genug-zufrieden-leben-auch-wenn-das-leben-nicht-perfekt-ist-3/
LOCATION:Altmarksaal Klötze\, Breite Straße 8\, Klötze\, Sachsen-Anhalt\, 38486\, Deutschland
CATEGORIES:Frühstücks-Treffen
ORGANIZER;CN="FFF-Kl%C3%B6tze":MAILTO:anette.rose(at)yahoo.de
END:VEVENT
BEGIN:VEVENT
DTSTART;TZID=Europe/Berlin:20240323T090000
DTEND;TZID=Europe/Berlin:20240323T120000
DTSTAMP:20260422T141534
CREATED:20240208T114907Z
LAST-MODIFIED:20240208T114907Z
UID:10000209-1711184400-1711195200@fruehstueckstreffen.de
SUMMARY:Lebensgenuss oder Lebensverdruss?! - Wenn das HEUTE nur aus GESTERN und MORGEN besteht...
DESCRIPTION:Ich will das Leben genießen. Jeden einzelnen Augenblick.\nAber warum gelingt es mir nicht\, obwohl ich alles so schön geplant habe?\nWas mache ich mit den Resten von gestern und den Sorgen von morgen?\nGönnt Gott mir den perfekten Genuss an einem unperfekten Tag? \nHerzliche Einladung zu einem „vielleicht“ perfekten Vormittag mit Vortrag\, Musik und leckerem Frühstück. \nReferentin:\nVerena Greim ist verheiratet\, hat 6 Kinder und wohnt in Erfurt\, sie ist Kommunikationswissenschaftlerin (M.A.). Seit 2016 führt sie eine eigene Pralinenwerkstatt „unSüß“ und eine Schreibwerkstatt „unText“.\nVeranstaltungsort: \nInformationen zur Veranstaltung:\nBei Petra Gebhardt unter der Rufnummer: (03 42 91) 8 88 63 oder per E-Mail: gebhardt(at)fruehstuecks-treffen.de \nEintrittskarten:\nKarten erhalten Sie nur im Vorverkauf vom 20.02.2024 – 20.03.2024 bei: \nNaumann Augenoptik\, Hauptstraße 2\, 04821 Brandis \nDer LeseLaden\, Jacobsgasse 25\, 04808 Wurzen \nEintrittspreis:\n11\,00 EUR \nMax. Teilnehmerzahl: 200 Teilnehmerinnen
URL:https://fruehstueckstreffen.de/veranstaltung/lebensgenuss-oder-lebensverdruss-wenn-das-heute-nur-aus-gestern-und-morgen-besteht-4/
LOCATION:CVJM-Haus Brandis\, Zeititzer Weg 16\, Brandis\, Sachsen\, 04821\, Deutschland
CATEGORIES:Frühstücks-Treffen
ORGANIZER;CN="FFF-Brandis":MAILTO:gebhardt(at)fruehstuecks-treffen.de
END:VEVENT
BEGIN:VEVENT
DTSTART;TZID=Europe/Berlin:20240323T100000
DTEND;TZID=Europe/Berlin:20240323T123000
DTSTAMP:20260422T141534
CREATED:20240225T173437Z
LAST-MODIFIED:20240225T173922Z
UID:10000219-1711188000-1711197000@fruehstueckstreffen.de
SUMMARY:Zurück schauen - inne halten - Neues Wagen
DESCRIPTION:Referentin:\nMaria Rummel ist gelernte Familienpflegerin\, Referentin der Erwachsenenbildung\,\nAusbildung zur Biographiearbeit und qualifizierte Pilger – und Trauerbegleiterin. \nInformation zur Veranstaltung:\nBei Karin Weide unter der Rufnummer: (01 78) 7 02 19 63 oder E-Mail: ka-we(at)t-online.de \nDas Haus der Jugend erreichen Sie mit der Straßenbahnlinie 18\, Haltestelle Frankensteiner Platz\,\nanschließend 250 m Fußweg. Am Haus der Jugend stehen keine Parkplätze zur Verfügung. \nInformationen zur Anmeldung:\nAnmeldung bitte verbindlich an: fruehstueckstreffen.frankfurt(at)gmail.com
URL:https://fruehstueckstreffen.de/veranstaltung/5265/
LOCATION:Haus der Jugend\, Deutschherrnufer 12\, Frankfurt\, Hessen\, 60594\, Deutschland
CATEGORIES:Frühstücks-Treffen
ORGANIZER;CN="FFF-Frankfurt am Main":MAILTO:ka-we(at)t-online.de
END:VEVENT
END:VCALENDAR