BEGIN:VCALENDAR
VERSION:2.0
PRODID:-//Frühstückstreffen für Frauen - ECPv6.10.1.1//NONSGML v1.0//EN
CALSCALE:GREGORIAN
METHOD:PUBLISH
X-WR-CALNAME:Frühstückstreffen für Frauen
X-ORIGINAL-URL:https://fruehstueckstreffen.de
X-WR-CALDESC:Veranstaltungen für Frühstückstreffen für Frauen
REFRESH-INTERVAL;VALUE=DURATION:PT1H
X-Robots-Tag:noindex
X-PUBLISHED-TTL:PT1H
BEGIN:VTIMEZONE
TZID:Europe/Berlin
BEGIN:DAYLIGHT
TZOFFSETFROM:+0100
TZOFFSETTO:+0200
TZNAME:CEST
DTSTART:20220327T010000
END:DAYLIGHT
BEGIN:STANDARD
TZOFFSETFROM:+0200
TZOFFSETTO:+0100
TZNAME:CET
DTSTART:20221030T010000
END:STANDARD
END:VTIMEZONE
BEGIN:VEVENT
DTSTART;TZID=Europe/Berlin:20220903T090000
DTEND;TZID=Europe/Berlin:20220903T113000
DTSTAMP:20260419T141230
CREATED:20220807T123944Z
LAST-MODIFIED:20220909T103123Z
UID:10000023-1662195600-1662204600@fruehstueckstreffen.de
SUMMARY:Lebensgenuss oder Lebensverdruss?! - Wenn das HEUTE nur aus GESTERN und MORGEN besteht…
DESCRIPTION:Frühstücks-Treffen für Frauen jeden Alters \nReferentin:\nVerena Greim aus Erfurt-Egstedt \nWeitere Infos bei:\nChristine Kunath\, Tel.: (03 72 08) 27 17 oder E-Mail: christine.kunath(at)suku.de \n 
URL:https://fruehstueckstreffen.de/veranstaltung/lebensgenuss-oder-lebensverdruss-wenn-das-heute-nur-aus-gestern-und-morgen-besteht/
LOCATION:Gaststätte Ritterhof\, Hauptstraße 96\, Altmittweida\, Sachsen\, 09648\, Deutschland
CATEGORIES:Frühstücks-Treffen
ORGANIZER;CN="FFF-Frankenberg":MAILTO:rosi.findeisen(at)freenet.de
END:VEVENT
BEGIN:VEVENT
DTSTART;TZID=Europe/Berlin:20220910T093000
DTEND;TZID=Europe/Berlin:20220910T120000
DTSTAMP:20260419T141230
CREATED:20220805T163438Z
LAST-MODIFIED:20220909T101641Z
UID:10000019-1662802200-1662811200@fruehstueckstreffen.de
SUMMARY:BeYOUtiful - Entdecke deine Schönheit
DESCRIPTION:Ein Vormittag mit Frühstück\, Live-Musik\, Vortrag\, Gespräche an den Tischen \nEine Anmeldung ist unbedingt erforderlich! \nReferentin:\nChrista Geßner
URL:https://fruehstueckstreffen.de/veranstaltung/beyoutiful-entdecke-deine-schoenheit/
LOCATION:Adolf-Reichwein-Halle\, Bei den Junkergärten 2\, Rosbach\, Hessen\, 61191\, Deutschland
CATEGORIES:Frühstücks-Treffen
ORGANIZER;CN="FFF-Wetterau":MAILTO:beate.schabel(at)gmx.de
END:VEVENT
BEGIN:VEVENT
DTSTART;TZID=Europe/Berlin:20220910T190000
DTEND;TZID=Europe/Berlin:20220910T210000
DTSTAMP:20260419T141230
CREATED:20220806T172931Z
LAST-MODIFIED:20220909T101806Z
UID:10000025-1662836400-1662843600@fruehstueckstreffen.de
SUMMARY:Musikalische Abendveranstaltung
DESCRIPTION:Eine musikalische Abendveranstaltung für jedermann mit Sefora Nelson. \nEintrittspreise:\nIm Vorverkauf 22\,00 EUR bei: www.cvents.eu/de \nAn der Abendkasse 25\,00 EUR
URL:https://fruehstueckstreffen.de/veranstaltung/musikalische-abendveranstaltung/
LOCATION:Überseemuseum am Bahnhof Bremen\, Bahnhofsplatz 13\, Bremen\, Bremen\, 28195\, Deutschland
CATEGORIES:Frühstücks-Treffen
ORGANIZER;CN="FFF-Bremen":MAILTO:nelly.linke(at)gmail.com
END:VEVENT
BEGIN:VEVENT
DTSTART;TZID=Europe/Berlin:20220917T090000
DTEND;TZID=Europe/Berlin:20220917T113000
DTSTAMP:20260419T141230
CREATED:20220807T125808Z
LAST-MODIFIED:20220914T114958Z
UID:10000015-1663405200-1663414200@fruehstueckstreffen.de
SUMMARY:Auf einmal ist alles anders - Vom Umgang mit Lebenskrisen
DESCRIPTION:Das Schicksal verändert unser Leben manchmal im Bruchteil einer Sekunde – der Tod eines geliebten Menschen\, der Verlust des Arbeitsplatzes\, eine schwere Diagnose\, der Zusammenbruch gesellschaftlicher Systeme… So unterschiedlich die Auslöser auch sind\, führen sie doch alle Betroffenen zur Frage\, was helfen kann\, sich wieder im Leben zurecht zu finden\, Kraft zu schöpfen und neue Perspektiven zu entwickeln. \nReferentin:\nAnneke Pilgrim aus Karlsruhe wird darüber sprechen\, wie wir krisenhafte Lebensereignisse verarbeiten und daraus vielleicht sogar gestärkt hervorgehen können. Sie ist dreifache Mutter\, Politologin und Reittherapeutin und bringt viel Erfahrung mit. \nDas Service-Team des Bürgerhauses wird wieder für das Frühstück sorgen\, während viele weitere nette „Zutaten“ diesen Vormittag angenehm abrunden werden. \nEintrittspreis:\n12.00 EUR \nKinderbetreuung:\nKinder bis zu 7 Jahren werden parallel zum Programm betreut. Melden Sie sich bitte unter der Rufnummer 03843 344633 bei Frau Irene von Weber an und seien Sie uns willkommen! \nDer Arbeitskreis e.V. Frühstückstreffen für Frauen in Güstrow
URL:https://fruehstueckstreffen.de/veranstaltung/auf-einmal-ist-alles-anders-vom-umgang-mit-lebenskrisen/
LOCATION:Bürgerhaus\, Marktplatz 1a\, Bad Berleburg\, Nordrhein-Westfalen\, 57319
CATEGORIES:Frühstücks-Treffen
ORGANIZER;CN="FFF-G%C3%BCstrow":MAILTO:a.c.werner(at)web.de
END:VEVENT
BEGIN:VEVENT
DTSTART;TZID=Europe/Berlin:20220917T090000
DTEND;TZID=Europe/Berlin:20220917T113000
DTSTAMP:20260419T141230
CREATED:20220811T152926Z
LAST-MODIFIED:20220914T115347Z
UID:10000001-1663405200-1663414200@fruehstueckstreffen.de
SUMMARY:Gut ist gut genug! - Zufrieden leben\, auch wenn das Leben nicht perfekt ist
DESCRIPTION:Referentin:\nClaudia Filker aus Berlin
URL:https://fruehstueckstreffen.de/veranstaltung/gut-ist-gut-genug-zufrieden-leben-auch-wenn-das-leben-nicht-perfekt-ist/
LOCATION:Schützenhaus Weißenberg\, Reichenbacher Straße 1\, Weißenberg\, Sachsen\, 02627\, Deutschland
CATEGORIES:Frühstücks-Treffen
ORGANIZER;CN="FFF-Wei%C3%9Fenberg":MAILTO:angelika-lips(at)web.de
END:VEVENT
BEGIN:VEVENT
DTSTART;TZID=Europe/Berlin:20220917T090000
DTEND;TZID=Europe/Berlin:20220917T120000
DTSTAMP:20260419T141230
CREATED:20220805T161405Z
LAST-MODIFIED:20220914T115214Z
UID:10000020-1663405200-1663416000@fruehstueckstreffen.de
SUMMARY:Entscheidungen treffen mit einem guten Gefühl
DESCRIPTION:Referentin:\nDorothee Döbler aus Berlin \n 
URL:https://fruehstueckstreffen.de/veranstaltung/entscheidungen-treffen-mit-einem-guten-gefuehl/
LOCATION:Restaurant Ratskeller Altenburg\, Markt 1\, Altenburg\, Thüringen\, 04600\, Deutschland
CATEGORIES:Frühstücks-Treffen
ORGANIZER;CN="FFF-Altenburg":MAILTO:ruth.lehnert@freenet.de
END:VEVENT
BEGIN:VEVENT
DTSTART;TZID=Europe/Berlin:20220917T090000
DTEND;TZID=Europe/Berlin:20220917T120000
DTSTAMP:20260419T141230
CREATED:20220906T192931Z
LAST-MODIFIED:20220914T115313Z
UID:10000043-1663405200-1663416000@fruehstueckstreffen.de
SUMMARY:Entscheidungen treffen - mit einem guten Gefühl
DESCRIPTION:Bei unserem Frühstücks-Treffen geht es um ein Thema\, das unseren Alltag betrifft\, um die kleinen und großen Entscheidungen\, die wir täglich treffen. \nDie Gäste erwartet auch wieder ein liebevoll zubereitetes Frühstücks-Buffet\, stimmungsvolle musikalische Begleitung und Zeit zum persönlichen Austausch. \nReferentin:\nDorothee Döbler aus Berlin \nKurztext zur Referentin:\nLebensberaterin Dorothee Döbler gibt hilfreiche Anregungen zum Thema. \nFragen zur Veranstaltung:\nRuth Lehnert\, Tel.: (0 34 47) 50 74 40 oder E-Mail: ruth.lehnert(at)freenet.de \nEintrittskarten:\nnur im Vorverkauf bis zum 14.09.2022 \nin Altenburg bei Tourismusinformation Altenburger Land\, Markt 10 \nin Schmölln bei Astrids Bastelecke\, Markt 35 \nEintrittspreis:\n15\,00 EUR \nMax. Teilnehmerzahl:\n55 Personen \n 
URL:https://fruehstueckstreffen.de/veranstaltung/entscheidungen-treffen-mit-einem-guten-gefuehl-2/
LOCATION:Ratskeller Altenburg (Bürgersaal)\, Markt 1\, Altenburg\, Thüringen\, 04600\, Deutschland
CATEGORIES:Frühstücks-Treffen
ORGANIZER;CN="FFF-Altenburg":MAILTO:ruth.lehnert@freenet.de
END:VEVENT
BEGIN:VEVENT
DTSTART;TZID=Europe/Berlin:20220924T090000
DTEND;TZID=Europe/Berlin:20220924T113000
DTSTAMP:20260419T141230
CREATED:20220906T190757Z
LAST-MODIFIED:20220914T115631Z
UID:10000042-1664010000-1664019000@fruehstueckstreffen.de
SUMMARY:Was für eine Zeit\, in der wir leben?
DESCRIPTION:Wie gehen wir mit diesen Herausforderungen um? Alexandra Dephul möchte neue Wege aufzeigen. \n…wie wir an Kriesen reifen\, nicht nur an persönlichen \n…wie Veränderungen an unserem Tisch beginnt \n…wie Dankbarkeit uns Hoffnung schenkt \nReferentin:\nAlexandra C.E. Dephul aus Issum \nKurztext zur Referentin:\nReferentin\, Autorin\, Seminarleiterin\, Mentorin für junge Leiterinnen. Mit evaacademy hat sie Frauen geholfen\, ihren Charakter zu stärken und sich weiterzuentwickeln\, um Verantwortung zu übernehmen. \nFragen zur Veranstaltung:\nBrigitte Büsch\, Tel.: (0 21 51) 9 49 98 66 0der E-Mail: buesch-krefeld(at)arcor.de \nEintrittspreis:\n15\,00 EUR \nMax. Teilnehmerzahl:\n80 Personen \n  \n 
URL:https://fruehstueckstreffen.de/veranstaltung/was-fuer-eine-zeit-in-der-wir-leben/
LOCATION:Mercure Parkhotel\, Uerdinger Straße 245\, Krefeld\, Nordrhein-Westfalen\, 47800\, Deutschland
CATEGORIES:Frühstücks-Treffen
ORGANIZER;CN="FFF-Krefeld/Kempen":MAILTO:bettinasteinhaus(at)gmx.de
END:VEVENT
BEGIN:VEVENT
DTSTART;TZID=Europe/Berlin:20220924T090000
DTEND;TZID=Europe/Berlin:20220924T114500
DTSTAMP:20260419T141230
CREATED:20220811T150757Z
LAST-MODIFIED:20220914T115535Z
UID:10000005-1664010000-1664019900@fruehstueckstreffen.de
SUMMARY:Wer "A" sagt\, muss sich über "B" nicht wundern
DESCRIPTION:Referentin:\nSilke Stattaus aus der Lutherstadt Wittenberg \nEintrittskarten:\nKartenvorverkauf ab 22.08.2022 bei Concepcion Seidel\, Altmarkt 3 in Plauen
URL:https://fruehstueckstreffen.de/veranstaltung/wer-a-sagt-muss-sich-ueber-b-nicht-wundern/
LOCATION:Hotel Alexandra\, Bahnhofstraße 17\, Plauen\, Sachsen\, 08523\, Deutschland
CATEGORIES:Frühstücks-Treffen
ORGANIZER;CN="FFF-Plauen":MAILTO:d.nekwinda(at)gmx.de
END:VEVENT
BEGIN:VEVENT
DTSTART;TZID=Europe/Berlin:20220924T193000
DTEND;TZID=Europe/Berlin:20220924T213000
DTSTAMP:20260419T141230
CREATED:20220808T123022Z
LAST-MODIFIED:20220914T115503Z
UID:10000011-1664047800-1664055000@fruehstueckstreffen.de
SUMMARY:KONZERT zum 30jährigen Jubiläum
DESCRIPTION:Konzert zum 30jährigen Jubiläum mit Sefora Nelson\nBeginn der Veranstaltung um 19.30 Uhr\, Einlass ab 19.00 Uhr \nEintritt: 16\,00 EUR \nVorverkauf (keine Abendkasse):\nab Montag\, 05. September – Freitag\, 23. September 2022 \nim Eine-Welt-Laden\, Weinmarkt 12\, 87700 Memmingen \nVeranstaltung ist für Frauen und Männer! \nWeitere Infos bei:\nDoris Mayer\, Tel.: (0 83 31) 4 81 68
URL:https://fruehstueckstreffen.de/veranstaltung/konzert-zum-30jaehrigen-jubilaeum/
LOCATION:Turn- und Festhalle Benningen\, Pius-Winter-Straße\, Benningen\, Baden-Württemberg\, 87734\, Deutschland
CATEGORIES:Frühstücks-Treffen
END:VEVENT
END:VCALENDAR