BEGIN:VCALENDAR
VERSION:2.0
PRODID:-//Frühstückstreffen für Frauen - ECPv6.10.1.1//NONSGML v1.0//EN
CALSCALE:GREGORIAN
METHOD:PUBLISH
X-WR-CALNAME:Frühstückstreffen für Frauen
X-ORIGINAL-URL:https://fruehstueckstreffen.de
X-WR-CALDESC:Veranstaltungen für Frühstückstreffen für Frauen
REFRESH-INTERVAL;VALUE=DURATION:PT1H
X-Robots-Tag:noindex
X-PUBLISHED-TTL:PT1H
BEGIN:VTIMEZONE
TZID:Europe/Berlin
BEGIN:DAYLIGHT
TZOFFSETFROM:+0100
TZOFFSETTO:+0200
TZNAME:CEST
DTSTART:20220327T010000
END:DAYLIGHT
BEGIN:STANDARD
TZOFFSETFROM:+0200
TZOFFSETTO:+0100
TZNAME:CET
DTSTART:20221030T010000
END:STANDARD
END:VTIMEZONE
BEGIN:VEVENT
DTSTART;TZID=Europe/Berlin:20221029T090000
DTEND;TZID=Europe/Berlin:20221029T113000
DTSTAMP:20260419T154609
CREATED:20220906T203425Z
LAST-MODIFIED:20220914T123039Z
UID:10000047-1667034000-1667043000@fruehstueckstreffen.de
SUMMARY:Beziehungen im 21. Jahrhundert - Vertrauen gewinnen\, Offenheit lernen
DESCRIPTION:Welche Werte sind uns als Gesellschaft noch wichtig und wie reagieren wir als Einzelne? Können wir noch Vertrauen und Offenheit erwarten oder gar fordern? Analyse\, Tipps und Hilfen \nReferentin:\nGretchen Hilbrands aus Langgöns \nKurztext zur Referentin:\nFreiberufliche Referentin\, Autorin\, Pädagogin aus Langgöns \nFragen zur Veranstaltung:\nConny Scheutzel\, Tel.: (0 56 05) 7 06 57 oder E-Mail: hacosch(at)gmx.de \nInformation zur Anmeldung:\nBitte melden Sie sich bei Emmi Trube bis 3 Tage vor dem Treffen an unter Tel.: (0 56 05) 12 69 oder per E-Mail: Frauenfruehstuecks-Kaufungen(at)gmx.de \nEintrittsreis:\n10\,00 EUR \nMax. Teilnehmerzahl:\n60 Personen
URL:https://fruehstueckstreffen.de/veranstaltung/beziehungen-im-21-jahrhundert/
LOCATION:LOSSEHAUS Niederkaufungen\, Mittelstraße 20\, Kaufungen\, Hessen\, 34260\, Deutschland
CATEGORIES:Frühstücks-Treffen
ORGANIZER;CN="FFF-Kaufungen":MAILTO:gisihesse(at)yahoo.de
END:VEVENT
BEGIN:VEVENT
DTSTART;TZID=Europe/Berlin:20221028T193000
DTEND;TZID=Europe/Berlin:20221028T213000
DTSTAMP:20260419T154609
CREATED:20220906T203033Z
LAST-MODIFIED:20220914T122842Z
UID:10000046-1666985400-1666992600@fruehstueckstreffen.de
SUMMARY:Beziehungen im 21. Jahrhundert - Vertrauen gewinnen\, Offenheit lernen
DESCRIPTION:Welche Werte sind uns als Gesellschaft noch wichtig und wie reagieren wir als Einzelne? Können wir noch Vertrauen und Offenheit erwarten oder gar fordern? Analyse\, Tipps und Hilfen \nReferentin:\nGretchen Hilbrands aus Langgöns \nKurztext zur Referentin:\nFreiberufliche Referentin\, Autorin\, Pädagogin aus Langgöns \nFragen zur Veranstaltung:\nConny Scheutzel\, Tel.: (0 56 05) 7 06 57 oder E-Mail: hacosch(at)gmx.de \nInformation zur Anmeldung:\nBitte melden Sie sich bei Emmi Trube bis 3 Tage vor dem Treffen an unter Tel.: (0 56 05) 12 69 oder per E-Mail: Frauenfruehstuecks-Kaufungen(at)gmx.de \nEintrittspeis:\n10\,00 EUR \nMax. Teilnehmerzahl:\n60 Personen \n 
URL:https://fruehstueckstreffen.de/veranstaltung/beziehungen-im-21-jahrhundert-vertrauen-gewinnen-offenheit-lernen/
LOCATION:LOSSEHAUS Niederkaufungen\, Mittelstraße 20\, Kaufungen\, Hessen\, 34260\, Deutschland
CATEGORIES:Frühstücks-Treffen
ORGANIZER;CN="FFF-Kaufungen":MAILTO:gisihesse(at)yahoo.de
END:VEVENT
END:VCALENDAR